BEGIN:VCALENDAR
VERSION:2.0
PRODID:-//Date iCal//NONSGML kigkonsult.se iCalcreator 2.22//
METHOD:PUBLISH
X-WR-CALNAME;VALUE=TEXT:ERNCIP Calendar
BEGIN:VTIMEZONE
TZID:Europe/Brussels
BEGIN:STANDARD
DTSTART:20151025T030000
TZOFFSETFROM:+0200
TZOFFSETTO:+0100
RDATE:20161030T030000
TZNAME:CET
END:STANDARD
BEGIN:DAYLIGHT
DTSTART:20160327T020000
TZOFFSETFROM:+0100
TZOFFSETTO:+0200
RDATE:20170326T020000
TZNAME:CEST
END:DAYLIGHT
END:VTIMEZONE
BEGIN:VEVENT
UID:calendar.62.field_events_date.0@erncip-project.jrc.ec.europa.eu
DTSTAMP:20211006T192017Z
CREATED:20160804T150449Z
DESCRIPTION:A      \n    \n\nDate: \n\n2016-04-27 09:00 to 2016-04-28 17:00
 \n\nPlace: \n\nIspra\n\nGroup: \n\nOperators Workshop\n\n\nAbout\n\n\n\nER
 NCIP organised a 3rd workshop for infrastructure operators on April 27-28\
 , 2016\, in Ispra\, Italy. The purpose of this workshop is to continue to 
 intensify the collaboration with operators within the ERNCIP network\, whi
 le exploring the theme of resilience for critical infrastructures. For thi
 s reason\, this year's workshop was organized in close collaboration with 
 the H2020 IMPROVER project ( http://improverproject.eu/ ).\n\n\nWorkshop’s
  Theme & Sessions\n\n\nThe workshop included presentations by experts on r
 esilience and CI operators\, as well sessions on the following topics:\n\n
  Working session 1: \n \n\n   \n\nOrganizational aspects of resilience: pl
 ans\, standards\, best practices\n \n\n\n Working session 2: \n \n\n   \n
 \nMeasuring CI resilience: indicators and approaches\n \n\n\n Plenary sess
 ion: \n \n\n   \n\nResilience for smart societies: the link between CI res
 ilience and community resilience\n \n\n\n ERNCIP TG Session: \n \n\n   \n
 \nTG approach to pre-normative research: the road towards standardisation 
 to support resilience\n \n\n\n\nERNCIP and IMPROVER plan to continue this 
 joint effort on an annual basis\, with another workshop planned for Spring
  2017.
DTSTART;TZID=Europe/Brussels:20160427T090000
DTEND;TZID=Europe/Brussels:20160428T170000
LAST-MODIFIED:20160805T134727Z
LOCATION:Ispra
SUMMARY:ERNCIP-IMPROVER Joint Operators Workshop 2016 - April 27th and 28th
URL;TYPE=URI:https://erncip-project.jrc.ec.europa.eu/networks/ow/erncip-imp
 rover-joint-operators-workshop-2016
END:VEVENT
END:VCALENDAR
