BEGIN:VCALENDAR
VERSION:2.0
PRODID:-//Date iCal//NONSGML kigkonsult.se iCalcreator 2.22//
METHOD:PUBLISH
X-WR-CALNAME;VALUE=TEXT:ERNCIP Calendar
BEGIN:VTIMEZONE
TZID:Europe/Brussels
BEGIN:STANDARD
DTSTART:20201025T030000
TZOFFSETFROM:+0200
TZOFFSETTO:+0100
RDATE:20211031T030000
TZNAME:CET
END:STANDARD
BEGIN:DAYLIGHT
DTSTART:20200329T020000
TZOFFSETFROM:+0100
TZOFFSETTO:+0200
RDATE:20210328T020000
TZNAME:CEST
END:DAYLIGHT
END:VTIMEZONE
BEGIN:VEVENT
UID:calendar.600.field_events_date.0@erncip-project.jrc.ec.europa.eu
DTSTAMP:20210426T062645Z
CREATED:20200618T135748Z
DESCRIPTION:A      \n    \n\nDate: \n\n2020-06-25 10:00\n\nGroup: \n\nDetec
 tion of Indoor Airborne Chemical-Biological Agents\n\n\n\n\nThe Thematic G
 roup working on detection\, identification and monitoring of airborne chem
 ical-biological agents in the event of Indoor release in critical infrastr
 uctures met via videocall. The discussion focused on experimental applicat
 ion of indoor/outdoor environmental interaction and sensors detection. An 
 inventory of potential (non-toxic) chemical agents will be prepared. Exper
 imental setting and any further needs of the test will be discussed in the
  next meeting.
DTSTART;TZID=Europe/Brussels:20200625T100000
DTEND;TZID=Europe/Brussels:20200625T100000
LAST-MODIFIED:20200713T155725Z
SUMMARY:25 June 2020 - TG AIRBORNE Web-Meeting
URL;TYPE=URI:https://erncip-project.jrc.ec.europa.eu/events/25-june-2020-tg
 -airborne-web-meeting
END:VEVENT
END:VCALENDAR
