BEGIN:VCALENDAR
VERSION:2.0
PRODID:-//Date iCal//NONSGML kigkonsult.se iCalcreator 2.22//
METHOD:PUBLISH
X-WR-CALNAME;VALUE=TEXT:ERNCIP Calendar
BEGIN:VTIMEZONE
TZID:Europe/Brussels
BEGIN:STANDARD
DTSTART:20201025T030000
TZOFFSETFROM:+0200
TZOFFSETTO:+0100
RDATE:20211031T030000
TZNAME:CET
END:STANDARD
BEGIN:DAYLIGHT
DTSTART:20200329T020000
TZOFFSETFROM:+0100
TZOFFSETTO:+0200
RDATE:20210328T020000
TZNAME:CEST
END:DAYLIGHT
END:VTIMEZONE
BEGIN:VEVENT
UID:calendar.599.field_events_date.0@erncip-project.jrc.ec.europa.eu
DTSTAMP:20210426T062720Z
CREATED:20200618T121611Z
DESCRIPTION:A      \n    \n\nDate: \n\n2020-06-23 10:00\n\nGroup: \n\nChemi
 cal and Biological (CB) Risks to Drinking Water\n\n\n\n\nThe Thematic Grou
 p working on detection\, identification and monitoring of drinking water s
 ystems in the event of chemical-biological release met via videocall.\n\n
 \n\nThe discussion concerned:\nScientific and technical content of a webin
 ar series (i.e. modelling\, project results\, preparedness and experience 
 of water utilities)\;\nPriorities and deliverables for the work programme 
 2020-2021\;\nTG Water conference planning\;\nPilot exercise for water util
 ities on WSecP implementation.
DTSTART;TZID=Europe/Brussels:20200623T100000
DTEND;TZID=Europe/Brussels:20200623T100000
LAST-MODIFIED:20200626T100742Z
SUMMARY:23 June 2020 - TG WATER Web-Meeting
URL;TYPE=URI:https://erncip-project.jrc.ec.europa.eu/events/23-june-2020-tg
 -water-web-meeting
END:VEVENT
END:VCALENDAR
