BEGIN:VCALENDAR
VERSION:2.0
PRODID:-//Date iCal//NONSGML kigkonsult.se iCalcreator 2.22//
METHOD:PUBLISH
X-WR-CALNAME;VALUE=TEXT:ERNCIP Calendar
BEGIN:VTIMEZONE
TZID:Europe/Brussels
BEGIN:STANDARD
DTSTART:20191027T030000
TZOFFSETFROM:+0200
TZOFFSETTO:+0100
RDATE:20201025T030000,20211031T030000
TZNAME:CET
END:STANDARD
BEGIN:DAYLIGHT
DTSTART:20200329T020000
TZOFFSETFROM:+0100
TZOFFSETTO:+0200
RDATE:20210328T020000
TZNAME:CEST
END:DAYLIGHT
END:VTIMEZONE
BEGIN:VEVENT
UID:calendar.598.field_events_date.0@erncip-project.jrc.ec.europa.eu
DTSTAMP:20210426T062834Z
CREATED:20200515T074419Z
DESCRIPTION:A      \n    \n\nDate: \n\n2020-05-20 10:00\n\nGroup: \n\nChemi
 cal and Biological (CB) Risks to Drinking Water\n\n\n\n\nThe Thematic Grou
 p working on detection\, identification and monitoring of drinking water s
 ystems in the event of chemical-biological release met via videocall for d
 iscussing about ongoing activities\, latest news and next project objectiv
 es.\n\n\nFuture activities of the TG within the new work programme will be
  based on the following priorities:\n\n\n\nEvaluation tool – readiness for
  security implementationin the field\, out of the box\n\n\n\n\nInternet pl
 atform /forum for water security/technical data base\n\n\n\n\nGovernmental
  support\n\n\n\n\nSecurity Guide for household\n\n\n\n\nPre Accreditation
 \n\n\n\n\nWater conference \n\n\n\nIn the framework of COVID-19 outbreak a
 nd deep experiences gained by the TG\, impact assessment of water security
  systems in near- and long-term crises scenarios has been proposed. Impact
  on critical supplies and lessons learnt will aim to develop more sustaina
 ble plans for emergencies and future crises.
DTSTART;TZID=Europe/Brussels:20200520T100000
DTEND;TZID=Europe/Brussels:20200520T100000
LAST-MODIFIED:20200608T132553Z
SUMMARY:20 May 2020 - TG WATER Web-Meeting
URL;TYPE=URI:https://erncip-project.jrc.ec.europa.eu/events/20-may-2020-tg-
 water-web-meeting
END:VEVENT
END:VCALENDAR
