BEGIN:VCALENDAR
VERSION:2.0
PRODID:-//Date iCal//NONSGML kigkonsult.se iCalcreator 2.22//
METHOD:PUBLISH
X-WR-CALNAME;VALUE=TEXT:ERNCIP Calendar
BEGIN:VTIMEZONE
TZID:Europe/Brussels
BEGIN:STANDARD
DTSTART:20191027T030000
TZOFFSETFROM:+0200
TZOFFSETTO:+0100
RDATE:20201025T030000,20211031T030000
TZNAME:CET
END:STANDARD
BEGIN:DAYLIGHT
DTSTART:20200329T020000
TZOFFSETFROM:+0100
TZOFFSETTO:+0200
RDATE:20210328T020000
TZNAME:CEST
END:DAYLIGHT
END:VTIMEZONE
BEGIN:VEVENT
UID:calendar.597.field_events_date.0@erncip-project.jrc.ec.europa.eu
DTSTAMP:20210426T062755Z
CREATED:20200515T073951Z
DESCRIPTION:A      \n    \n\nDate: \n\n2020-05-22 10:00\n\nGroup: \n\nDetec
 tion of Indoor Airborne Chemical-Biological Agents\n\n\n\n\nThe Thematic G
 roup working on detection\, identification and monitoring of airborne chem
 ical-biological agents in the event of Indoor release in critical infrastr
 uctures met via videocall for discussing about ongoing activities\, latest
  news and next project objectives.\nParticipants discussed and shared thei
 r experience and institutional activities due to COVID-19 outbreak.\nOther
  issues that have been discussed\, were the expansion of the scope of the 
 TG\, so us to include outdoor air as well.\nIt was decided to perform real
 istic tests through testing facilities as a smooth continuation of the the
 oretical work which took place during the second work programme of the TG.
DTSTART;TZID=Europe/Brussels:20200522T100000
DTEND;TZID=Europe/Brussels:20200522T100000
LAST-MODIFIED:20200626T095624Z
SUMMARY:22 May 2020 - TG AIRBORNE Web-Meeting
URL;TYPE=URI:https://erncip-project.jrc.ec.europa.eu/events/22-may-2020-tg-
 airborne-web-meeting
END:VEVENT
END:VCALENDAR
