BEGIN:VCALENDAR
VERSION:2.0
PRODID:-//Date iCal//NONSGML kigkonsult.se iCalcreator 2.22//
METHOD:PUBLISH
X-WR-CALNAME;VALUE=TEXT:ERNCIP Calendar
BEGIN:VTIMEZONE
TZID:Europe/Brussels
BEGIN:STANDARD
DTSTART:20191027T030000
TZOFFSETFROM:+0200
TZOFFSETTO:+0100
RDATE:20201025T030000
TZNAME:CET
END:STANDARD
BEGIN:DAYLIGHT
DTSTART:20200329T020000
TZOFFSETFROM:+0100
TZOFFSETTO:+0200
RDATE:20210328T020000
TZNAME:CEST
END:DAYLIGHT
END:VTIMEZONE
BEGIN:VEVENT
UID:calendar.587.field_events_date.0@erncip-project.jrc.ec.europa.eu
DTSTAMP:20210915T041319Z
CREATED:20200408T151407Z
DESCRIPTION:A      \n    \n\nDate: \n\n2020-03-31 14:45\n\nPlace: \n\nVC\n
 \nGroup: \n\nEarly Warning Zones\n\n\n\n\nThe ERNCIP thematic group (TG) o
 n Early Warning Zones (EWZ) recently has explored the technical and operat
 ional issues associated with providing an early warning zone around critic
 al infrastructures (Cis) and drafted a comprehensive report.\n\n\nProject 
 Objectives\n\n\nAs a follow up action\, ERNCIP suggests that the TG EWZ sh
 ould look at topics that have been flagged as being of high interest to EC
  policy makers\nUnmanned aircraft systems (UAS) and other unmanned systems
  for critical infrastructure protection\nUse of UAS and other unmanned sys
 tems in securing CI\nEstablishing the trustworthiness of UAS and other unm
 anned systems for CI relevant tasks\, including CI security\nUAS threat mi
 tigation to CI\nArtificial intelligence and automated sensors for critical
  infrastructure protection\nState of the art on the level of maturity of A
 I application for CIP\nHow to improve the usage of such technologies by CI
  operators\nData protection and privacy\n\n\n \n\n\n\n\n\n\n AttachmentSiz
 e \n\n  200324-Agenda-EWZ group-ispra-2020-draft-VC.docx70.54 KB
DTSTART;TZID=Europe/Brussels:20200331T144500
DTEND;TZID=Europe/Brussels:20200331T144500
LAST-MODIFIED:20200408T151407Z
LOCATION:VC
SUMMARY:31 March 2020 Early Warning Zones Meeting
URL;TYPE=URI:https://erncip-project.jrc.ec.europa.eu/events/31-march-2020-e
 arly-warning-zones-meeting
END:VEVENT
END:VCALENDAR
