BEGIN:VCALENDAR
VERSION:2.0
PRODID:-//Date iCal//NONSGML kigkonsult.se iCalcreator 2.22//
METHOD:PUBLISH
X-WR-CALNAME;VALUE=TEXT:ERNCIP Calendar
BEGIN:VTIMEZONE
TZID:Europe/Brussels
BEGIN:STANDARD
DTSTART:20171029T030000
TZOFFSETFROM:+0200
TZOFFSETTO:+0100
RDATE:20181028T030000,20191027T030000
TZNAME:CET
END:STANDARD
BEGIN:DAYLIGHT
DTSTART:20180325T020000
TZOFFSETFROM:+0100
TZOFFSETTO:+0200
RDATE:20190331T020000
TZNAME:CEST
END:DAYLIGHT
END:VTIMEZONE
BEGIN:VEVENT
UID:calendar.548.field_events_date.0@erncip-project.jrc.ec.europa.eu
DTSTAMP:20211006T191842Z
CREATED:20180320T090604Z
DESCRIPTION:A      \n    \n\nDate: \n\n2018-05-23 09:00 to 2018-05-24 16:00
 \n\nPlace: \n\nLisbon\, Portugal\n\nGroup: \n\nOperators Workshop\n\n\n\n
 \nTheme: Critical Infrastructure Resilience\nDay 1: 23 May 2018\, Resilien
 ce Assessment for critical infrastructures: Methods and Tools\nDay 2: 24 M
 ay 2018\, Resilience Treatment for critical infrastructures: Guidelines an
 d Standards\n\n\nThe agenda and the presentations of the workshop can be f
 ound below.\n\n\n\n\n\n\n AttachmentSize \n\n  Agenda 1.8 MB \n  IMPROVER 
 project welcome\, D. Lange (RISE Research Institutes of Sweden)20.54 MB \n
   ERNCIP project news\, P. Gattinesi (JRC)2.89 MB \n  Session 1: Resilienc
 e\, just another buzzword? An operator's point of view\, B. Dynkel (Radius
 )746.56 KB \n  Session 1: How prepared are we to deal with disruptions\, R
 . Messias (EDP)3.67 MB \n  Session 1: SNAM Natural Gas Infrastructure Resi
 lience\, S. Bianco (SNAM)3.72 MB \n  Session 2: Resilience Assessment Tool
 s and Methods of the IMPROVER project\, D. Lange and E. Lundin (RISE Resea
 rch Institutes)135.71 MB \n  Policy update: The Network and Information Se
 curity Directive\, K. Moulinos (ENISA)2.89 MB \n  Session 3: Finnish Appro
 ach to Critical Infrastructure Protection\, K. Liekkila (NESA)2.24 MB \n  
 Session 3: Targeted actions for enhancing the protection of national chara
 cterized European CI\, I. Gkotsis (KEMEA)3.55 MB \n  Session 3:Enhancing C
 I resilience via effective crisis communication: best practices for Operat
 ors\, I.Tantatasi (Univ.Sheffield)8.17 MB \n  Session 3: Research results 
 fly the nest:Exploitation and Standardization in the SMR and RESIN project
 s\, C.Grimes (ICLEI)7.83 MB \n  Session 3: Generating system adaptive capa
 cities through data and information access\, P.Ferreira (Univ. Lisbon)1.5 
 MB
DTSTART;TZID=Europe/Brussels:20180523T090000
DTEND;TZID=Europe/Brussels:20180524T160000
LAST-MODIFIED:20180626T141140Z
LOCATION:Lisbon\, Portugal
SUMMARY:3rd IMPROVER-ERNCIP Joint Operators Workshop 2018
URL;TYPE=URI:https://erncip-project.jrc.ec.europa.eu/events/3rd-improver-er
 ncip-joint-operators-workshop-2018
END:VEVENT
END:VCALENDAR
