BEGIN:VCALENDAR
VERSION:2.0
PRODID:-//Date iCal//NONSGML kigkonsult.se iCalcreator 2.22//
METHOD:PUBLISH
X-WR-CALNAME;VALUE=TEXT:ERNCIP Calendar
BEGIN:VTIMEZONE
TZID:Europe/Brussels
BEGIN:STANDARD
DTSTART:20161030T030000
TZOFFSETFROM:+0200
TZOFFSETTO:+0100
RDATE:20171029T030000,20181028T030000
TZNAME:CET
END:STANDARD
BEGIN:DAYLIGHT
DTSTART:20170326T020000
TZOFFSETFROM:+0100
TZOFFSETTO:+0200
RDATE:20180325T020000
TZNAME:CEST
END:DAYLIGHT
END:VTIMEZONE
BEGIN:VEVENT
UID:calendar.492.field_events_date.0@erncip-project.jrc.ec.europa.eu
DTSTAMP:20211006T191924Z
CREATED:20170404T122854Z
DESCRIPTION:A      \n    \n\nDate: \n\n2017-05-11 09:00 to 2017-05-12 17:00
 \n\nPlace: \n\nJRC Ispra (Italy)\n\nGroup: \n\nOperators Workshop\n\n\n\n
 \nTheme: Critical Infrastructure Resilience\nDay 1: 11 May 2017\, Improvin
 g organisational resilience for critical infrastructure operators\nDay 2: 
 12 May 2017\, Achieving community resilience in collaboration with critica
 l infrastructure operators\n\n\nSee below the agenda and the presentations
 .\n\n\nNote: The presentation 'Community resilience and socio-technical as
 pects'\, by Timothy Prior (ETH Zürich) is available here.\n\n\n\n\n\n\n At
 tachmentSize \n\n  Workshop Agenda419.17 KB \n  'IMPROVER project update'\
 , David Lange (RISE)2.38 MB \n  ERNCIP project news\, Peter Gattinesi (JRC
 )2.38 MB \n  Building resilience using business continuity management syst
 ems\, Ricardo Messias (EDP)3.08 MB \n  TAP Security Risk Management System
 \, Mark Lindsay (Trans Adriatic Pipeline AG)2.85 MB \n  Standardization ne
 eds on Resilience: the Resistant Project\, Pertti Woitsch (Geowise)2.69 MB
  \n  Organisational Resilience\, Max Moulin (CIRERO)1.53 MB \n  The DARWIN
  Resilience Management Guidelines and their testing in Healthcare and Avia
 tion related Pilot Cases Luca Save (DBL)4.85 MB \n  The IMPROVER approach\
 , David Lange (RISE)2.62 MB \n  Enhancing Community Resilience: a U.S. Per
 spective\, Kathleen Almand\, US NFPA11.2 MB \n  Results of the SMR project
  Pierluigi Potenza (Risorse per Roma S.p.A.)3.63 MB \n  From Crisis Manage
 ment to Community Resilience: A railway perspective Grigore Havarneaunu (U
 IC) & Laura Petersen (EMSC)5.11 MB \n  AESOP Guidelines for effective comm
 unication between CI operators and the public...\, Elisa Serafinelli (Univ
 . of Sheffield)468.76 KB
DTSTART;TZID=Europe/Brussels:20170511T090000
DTEND;TZID=Europe/Brussels:20170512T170000
LAST-MODIFIED:20170830T162219Z
LOCATION:JRC Ispra (Italy)
SUMMARY:2nd IMPROVER-ERNCIP Joint Operators Workshop 2017
URL;TYPE=URI:https://erncip-project.jrc.ec.europa.eu/events/2nd-improver-er
 ncip-joint-operators-workshop-2017
END:VEVENT
END:VCALENDAR
