BEGIN:VCALENDAR
VERSION:2.0
PRODID:-//Date iCal//NONSGML kigkonsult.se iCalcreator 2.22//
METHOD:PUBLISH
X-WR-CALNAME;VALUE=TEXT:ERNCIP Calendar
BEGIN:VTIMEZONE
TZID:Europe/Brussels
BEGIN:STANDARD
DTSTART:20161030T030000
TZOFFSETFROM:+0200
TZOFFSETTO:+0100
RDATE:20171029T030000
TZNAME:CET
END:STANDARD
BEGIN:DAYLIGHT
DTSTART:20170326T020000
TZOFFSETFROM:+0100
TZOFFSETTO:+0200
RDATE:20180325T020000
TZNAME:CEST
END:DAYLIGHT
END:VTIMEZONE
BEGIN:VEVENT
UID:calendar.491.field_events_date.0@erncip-project.jrc.ec.europa.eu
DTSTAMP:20201210T154657Z
CREATED:20170316T094643Z
DESCRIPTION:A      \n    \n\nDate: \n\n2017-03-28 11:00 to 2017-03-30 16:00
 \n\nPlace: \n\nIspra\, Italy\n\nGroup: \n\nRadiological and Nuclear Threat
 s to Critical Infrastructure\n\n\n\n\n\n  \n\n     \n   \n  \n\n     \n   
   \n\nWelcome to the workshop\n     \n\nThe European Commission’s Joint Re
 search Centre (JRC) in collaboration with the Global Initiative to Combat 
 Nuclear Terrorism (GICNT) has developed this two and a half day workshop t
 o bring together technical\, scientific\, and policy experts with specific
  expertise in the area of technical reachback and those who rely on techni
 cal reachback support as an aspect of their job functions.  The purpose of
  Magic Maggiore: Technical Reachback Workshop is to facilitate discussion 
 among experts from the nuclear security field regarding the roles and resp
 onsibilities\, challenges\, and opportunities of technical expert support 
 within Nuclear Security Detection Architectures.\n    \n   \n\n\n\n\nWorks
 hop Session 1 - Role of Scientific and Technical Expert Support\n\n\n\n\n	
 \n\n		\n\n		\n\n			\n\nReachback: A Crucial Cross-cutting Element of Nuclear Secu
 rity Detection Architecture\n			\n\nHarri Toivonen\, HT Nuclear Ltd\, ERNCIP 
 RN Thematic Group Coordinator\n		\n	\n\n\n\n\n\n\n\n	\n\n		\n\n		\n\n			\n\nExpert su
 pport and Reach back activitie\n			\n\nThierry Pelletier\, International Atom
 ic Energy Agency\n		\n	\n\n\n\n\n\n\n\n	\n\n		\n\n		\n\n			\n\nThe French experience 
 on nuclear detection architectures and related reachback\n			\n\nLaurent Olme
 do\, France\,  Atomic Energy and Alternative Energies Commission\n		\n	\n\n\n
 \n\n\n\n\n	\n\n		\n\n		\n\n			\n\nPractice and Exploration of Radiation Detection 
 by China Customs\n			\n\nWei Jiang\, Shanghai Customs\, General Administratio
 n of China Customs\n		\n	\n\n\n\n\n\n\n\n	\n\n		\n\n		\n\n			\n\nRadiation Screening 
 at the London 2012 Olympics\n			\n\nMark James\, United Kingdom\, Atomic Weap
 ons Establishment (AWE)\n		\n	\n\n\n\n\n\n\n\n	\n\n		\n\n		\n\n			\n\nCBSA’s Radiatio
 n Detection Program (RADNET)\n			\n\nKhalil Boudjemline\, Canada Border Servi
 ces Agency\n		\n	\n\n\n\n\n\n\n\n	\n\n		\n\n		\n\n			\n\nNuclear Detection and techni
 cal reach back in the Netherlands\n			\n\nRené de Goede\,  Netherlands\, Tax 
 and Customs Administration\n		\n	\n\n\n\nWorkshop Session 2 - Opportunities a
 nd Challenges of Technical Reachback\n\n\n\n\n	\n\n		\n\n		\n\n			\n\nInformation 
 sharing for Technical Reachback\n			\n\nWillem Janssens\, European Commission
 \, Joint Research Centre\n		\n	\n\n\n\n\n\n\n\n	\n\n		\n\n		\n\n			\n\nAlarm Adjudica
 tion During a Nuclear Security Incident\n			\n\nChristopher Baugues\, United 
 States\, Department of Homeland Security\n		\n	\n\n\n\n\n\n\n\n	\n\n		\n\n		\n\n			\n
 \nCurrent State-of-the-Art in Technology for Nuclear Security\n			\n\nHamid T
 agziria\, European Commission\, Joint Research Centre\n		\n	\n\n\n\n\n\n\n\n	
 \n\n		\n\n		\n\n			\n\nBuilding on core components of Technical Reachback\n			\n\nGe
 orgios Takoudis\, European Commission\, Joint Research Centre\n		\n	\n\n\n\n
 \n\n\n\n	\n\n		\n\n		\n\n			\n\nThe scene: Demonstration of Reachback\n			\n\nEuropea
 n Commission\, Joint Research Centre\n		\n	\n\n\n\nWorkshop Session 3 - Build
 ing on Core Components of Technical Reachback\n\n\n\n\n	\n\n		\n\n		\n\n			\n\nCas
 e Study on Information Sharing\n			\n\nMitica Dragusin\, Romania\, 'Horia Hul
 ubei' National Institute for R&D in Physics and Nuclear Engineering\n		\n	\n
 \n\n\n\n\n\n\n	\n\n		\n\n		\n\n			\n\nAssessment of factors causing false alarm si
 gnals from detection equipment\, and ways to mitigate this challenge\n			\n\n
 Grigory SHEVCHENKO\, Russian Federation\, Ministry of Defense\n		\n	\n\n\n\n
 \n\n\n\n	\n\n		\n\n		\n\n			\n\nMethods Of Identification of alarm signals\, used 
 in detection systems in The Russian Federation\n			\n\nVladimir Pertsev\, Rus
 sian Federation\, Techsin LLC\n		\n	\n\n\n\n\n	\n\n		\n\n		\n\n			\n\nNA-81 Security.
  Preparedness. Response\n			\n\nSteven Buntman\, United States\, Department o
 f Energy\n		\n	\n\n\n\n\n\n\nWorkshop Session 4 - Advanced Technologies\n\n\n
 \n\n	\n\n		\n\n		\n\n			\n\nInfluence of New Technologies on Technical Reachback\n
 			\n\nProf. Olof TENGBLAD\, IEM – CSIC Madrid Spain\, Sakari Ihantola\, Finl
 and\, Imperial College London\n		\n	\n\n\n\n\n\n\n\n	\n\n		\n\n		\n\n			\n\nA standar
 d for list-mode data Advantages in nuclear security\n			\n\nJan Paepen\, Euro
 pean Commission\, Joint Research Centre\n		\n	\n\n\n\n\n\n\n\n	\n\n		\n\n		\n\n			\n
 \nA Proposal of Nuclear Materials Detection and Inspection Systems in Heav
 ily Shielded Suspicious Objects by Non-destructive Manner\n			\n\nMitsuo KOIZ
 UMI\, Japan Atomic Energy Agency\n		\n	\n\n\n\n\n\n\nBack\n\n\n\n\n\n\n\n\n A
 ttachmentSize \n\n  Agenda - Magic Maggiore Workshop38.81 KB
DTSTART;TZID=Europe/Brussels:20170328T110000
DTEND;TZID=Europe/Brussels:20170330T160000
LAST-MODIFIED:20170412T070559Z
LOCATION:Ispra\, Italy
SUMMARY:Magic Maggiore - Technical Reachback Workshop
URL;TYPE=URI:https://erncip-project.jrc.ec.europa.eu/events/magic-maggiore-
 technical-reachback-workshop
END:VEVENT
END:VCALENDAR
