BEGIN:VCALENDAR
VERSION:2.0
PRODID:-//Date iCal//NONSGML kigkonsult.se iCalcreator 2.22//
METHOD:PUBLISH
X-WR-CALNAME;VALUE=TEXT:ERNCIP Calendar
BEGIN:VTIMEZONE
TZID:Europe/Brussels
BEGIN:STANDARD
DTSTART:20111030T030000
TZOFFSETFROM:+0200
TZOFFSETTO:+0100
RDATE:20121028T030000
TZNAME:CET
END:STANDARD
BEGIN:DAYLIGHT
DTSTART:20120325T020000
TZOFFSETFROM:+0100
TZOFFSETTO:+0200
RDATE:20130331T020000
TZNAME:CEST
END:DAYLIGHT
END:VTIMEZONE
BEGIN:VEVENT
UID:calendar.347.field_events_date.0@erncip-project.jrc.ec.europa.eu
DTSTAMP:20211006T191804Z
CREATED:20160829T082315Z
DESCRIPTION:A      \n    \n\nDate: \n\n2011-11-29 10:00 to 2011-11-30 16:30
 \n\nPlace: \n\nIspra\n\nGroup: \n\nConferences and Workshops\n\n\n\n\nThe 
 ERNCIP Trust Conference took place at JRC Ispra on 29-30 November\, 2011.
 \n\n\nThis conference is intended for stakeholders in the ERNCIP community
 \, current and future members included. During this conference we will pre
 sent you the theory behind the word “Trust”. The ultimate goal would be a 
 definition of Trust in the ERNCIP environment\, and what it would mean for
  you and for the ERNCIP itself.\n\n\nThe conference will be divided to 4 s
 essions\, ½ day each. We will begin by hearing from the experts about the 
 theory behind the concept\, and then discovering how other people have suc
 cessfully built complex trust networks. On the second day will continue wo
 rking with the issue by hearing about quantifying and controlling a trust 
 relationship and ending the day with issues around quality.\n\n\nPlease fi
 nd here the final agenda and related presentations.
DTSTART;TZID=Europe/Brussels:20111129T100000
DTEND;TZID=Europe/Brussels:20111130T163000
LAST-MODIFIED:20161114T134515Z
LOCATION:Ispra
SUMMARY:The ERNCIP Trust Conference 2011
URL;TYPE=URI:https://erncip-project.jrc.ec.europa.eu/events/erncip-trust-co
 nference-2011
END:VEVENT
END:VCALENDAR
