BEGIN:VCALENDAR
VERSION:2.0
PRODID:-//Date iCal//NONSGML kigkonsult.se iCalcreator 2.22//
METHOD:PUBLISH
X-WR-CALNAME;VALUE=TEXT:ERNCIP Calendar
BEGIN:VTIMEZONE
TZID:Europe/Brussels
BEGIN:STANDARD
DTSTART:20141026T030000
TZOFFSETFROM:+0200
TZOFFSETTO:+0100
RDATE:20151025T030000
TZNAME:CET
END:STANDARD
BEGIN:DAYLIGHT
DTSTART:20150329T020000
TZOFFSETFROM:+0100
TZOFFSETTO:+0200
RDATE:20160327T020000
TZNAME:CEST
END:DAYLIGHT
END:VTIMEZONE
BEGIN:VEVENT
UID:calendar.342.field_events_date.0@erncip-project.jrc.ec.europa.eu
DTSTAMP:20211006T191649Z
CREATED:20160829T080454Z
DESCRIPTION:A      \n    \n\nDate: \n\n2015-04-16 10:00 to 2015-04-17 17:00
 \n\nPlace: \n\nBrussels\n\nGroup: \n\nConferences and Workshops\n\n\n\n\n1
 6-17 April 2015 in Brussels\n\n\nMore than 100 CIP experts from laboratori
 es\, academia\, industry\, critical infrastructure operators\, standardisa
 tion organisations and officials from Member States attended the 2nd ERNCI
 P Conference titled “Dissemination\, Exploitation and New Initiatives”. Th
 e conference was split into 3 different moderated sessions (a). “ERNCIP 20
 11-2014 results”\, (b).”How do we disseminate and exploit the results?” an
 d (c). “Moving forward\, building on the existing framework”. The primary 
 objective of the conference was to report about the first round (2011-2014
 ) of the project. The scope was to improve the dissemination and exploitat
 ion of results and outcomes of the project and prepare the next round 2015
 -2020 which is to be built on the existing framework.\n\n\nA number of the
 matic groups activities\, addressing different thematic areas as identifie
 d by its stakeholders\, have been presented and discussed. The discussion 
 included also the platform that supports the community of experts.\n\n\n 
 \n\n\nERNCIP Pre Conference Special Session\n\n\nThis special session focu
 sed on “Decision Support Tools for Critical Infrastructure Protection (CIP
 )”. During the first day\, a selection of such decision support tools were
  presented by scientists from ENEA\, JRC\, Gdansk University of Technology
  and Politecnico di Milano. The session indicated to the audience the dive
 rsity of approaches and technologies used for the design of such tools. It
  also highlighted the problems that CIP stakeholders face\, with respect t
 he design and use of such tools. The second day focused on how such tools 
 can be shared and exploited better within the EU CIP community. The attend
 ants were encouraged to reflect on several driving questions and to active
 ly participate in the discussion of the second day.\n\n\nThe day opened wi
 th a presentation of the “CIPRNet’s Virtual centre of competence and exper
 tise in CIP”\, which offers decision support services for CIP. The discuss
 ion that followed was moderated by Torben Fell (DG-HOME). The participants
  highlighted challenges in training end-users\, the lack of a comprehensiv
 e and organised repository with tools and project results\, challenges in 
 dissemination\, concerns of data confidentiality\, limitations in resource
 s - especially at a national level- and the need for trusted authority to 
 coordinate such efforts.\n\n\n\n\n\n\nThe full length presentation slides 
 are available from the download area.\n\n\nDownload Area
DTSTART;TZID=Europe/Brussels:20150416T100000
DTEND;TZID=Europe/Brussels:20150417T170000
LAST-MODIFIED:20160829T080546Z
LOCATION:Brussels
SUMMARY:2nd ERNCIP Conference - Brussels 16-17 April 2015
URL;TYPE=URI:https://erncip-project.jrc.ec.europa.eu/events/2nd-erncip-conf
 erence-brussels-16-17-april-2015
END:VEVENT
END:VCALENDAR
