BEGIN:VCALENDAR
VERSION:2.0
PRODID:-//Date iCal//NONSGML kigkonsult.se iCalcreator 2.22//
METHOD:PUBLISH
X-WR-CALNAME;VALUE=TEXT:ERNCIP Calendar
BEGIN:VTIMEZONE
TZID:Europe/Brussels
BEGIN:STANDARD
DTSTART:20151025T030000
TZOFFSETFROM:+0200
TZOFFSETTO:+0100
RDATE:20161030T030000
TZNAME:CET
END:STANDARD
BEGIN:DAYLIGHT
DTSTART:20160327T020000
TZOFFSETFROM:+0100
TZOFFSETTO:+0200
RDATE:20170326T020000
TZNAME:CEST
END:DAYLIGHT
END:VTIMEZONE
BEGIN:VEVENT
UID:calendar.324.field_events_date.0@erncip-project.jrc.ec.europa.eu
DTSTAMP:20210428T151942Z
CREATED:20160826T133258Z
DESCRIPTION:A      \n    \n\nDate: \n\n2016-02-03 08:00 to 17:00\n\nPlace: 
 \n\nIspra\, Italy\n\nGroup: \n\nResistance of Structures to Explosion Effe
 cts
DTSTART;TZID=Europe/Brussels:20160203T080000
DTEND;TZID=Europe/Brussels:20160203T170000
LAST-MODIFIED:20160826T133258Z
LOCATION:Ispra\, Italy
SUMMARY:13th Resistance of Structures to Explosion effects TG meeting
URL;TYPE=URI:https://erncip-project.jrc.ec.europa.eu/events/13th-resistance
 -structures-explosion-effects-tg-meeting
END:VEVENT
END:VCALENDAR
