BEGIN:VCALENDAR
VERSION:2.0
PRODID:-//Date iCal//NONSGML kigkonsult.se iCalcreator 2.22//
METHOD:PUBLISH
X-WR-CALNAME;VALUE=TEXT:ERNCIP Calendar
BEGIN:VTIMEZONE
TZID:Europe/Brussels
BEGIN:STANDARD
DTSTART:20141026T030000
TZOFFSETFROM:+0200
TZOFFSETTO:+0100
RDATE:20151025T030000
TZNAME:CET
END:STANDARD
BEGIN:DAYLIGHT
DTSTART:20150329T020000
TZOFFSETFROM:+0100
TZOFFSETTO:+0200
RDATE:20160327T020000
TZNAME:CEST
END:DAYLIGHT
END:VTIMEZONE
BEGIN:VEVENT
UID:calendar.323.field_events_date.0@erncip-project.jrc.ec.europa.eu
DTSTAMP:20210428T152018Z
CREATED:20160826T133159Z
DESCRIPTION:A      \n    \n\nDate: \n\n2014-11-03 08:00 to 17:00\n\nPlace: 
 \n\nBerlin\, Germany\n\nGroup: \n\nResistance of Structures to Explosion E
 ffects
DTSTART;TZID=Europe/Brussels:20141103T080000
DTEND;TZID=Europe/Brussels:20141103T170000
LAST-MODIFIED:20160826T133159Z
LOCATION:Berlin\, Germany
SUMMARY:12th Resistance of Structures against Explosion effects TG meeting
URL;TYPE=URI:https://erncip-project.jrc.ec.europa.eu/events/12th-resistance
 -structures-against-explosion-effects-tg-meeting
END:VEVENT
END:VCALENDAR
