BEGIN:VCALENDAR
VERSION:2.0
PRODID:-//Date iCal//NONSGML kigkonsult.se iCalcreator 2.22//
METHOD:PUBLISH
X-WR-CALNAME;VALUE=TEXT:ERNCIP Calendar
BEGIN:VTIMEZONE
TZID:Europe/Brussels
BEGIN:STANDARD
DTSTART:20131027T030000
TZOFFSETFROM:+0200
TZOFFSETTO:+0100
RDATE:20141026T030000
TZNAME:CET
END:STANDARD
BEGIN:DAYLIGHT
DTSTART:20130331T020000
TZOFFSETFROM:+0100
TZOFFSETTO:+0200
RDATE:20140330T020000
TZNAME:CEST
END:DAYLIGHT
END:VTIMEZONE
BEGIN:VEVENT
UID:calendar.321.field_events_date.0@erncip-project.jrc.ec.europa.eu
DTSTAMP:20210428T152128Z
CREATED:20160826T132947Z
DESCRIPTION:A      \n    \n\nDate: \n\n2013-09-24 08:00 to 2013-09-25 17:00
 \n\nPlace: \n\nIspra\, Italy\n\nGroup: \n\nResistance of Structures to Exp
 losion Effects
DTSTART;TZID=Europe/Brussels:20130924T080000
DTEND;TZID=Europe/Brussels:20130925T170000
LAST-MODIFIED:20160826T132947Z
LOCATION:Ispra\, Italy
SUMMARY:8th Resistance of Structures against Explosion effects TG meeting
URL;TYPE=URI:https://erncip-project.jrc.ec.europa.eu/events/8th-resistance-
 structures-against-explosion-effects-tg-meeting
END:VEVENT
END:VCALENDAR
