BEGIN:VCALENDAR
VERSION:2.0
PRODID:-//Date iCal//NONSGML kigkonsult.se iCalcreator 2.22//
METHOD:PUBLISH
X-WR-CALNAME;VALUE=TEXT:ERNCIP Calendar
BEGIN:VTIMEZONE
TZID:Europe/Brussels
BEGIN:STANDARD
DTSTART:20121028T030000
TZOFFSETFROM:+0200
TZOFFSETTO:+0100
RDATE:20131027T030000
TZNAME:CET
END:STANDARD
BEGIN:DAYLIGHT
DTSTART:20120325T020000
TZOFFSETFROM:+0100
TZOFFSETTO:+0200
RDATE:20130331T020000
TZNAME:CEST
END:DAYLIGHT
END:VTIMEZONE
BEGIN:VEVENT
UID:calendar.315.field_events_date.0@erncip-project.jrc.ec.europa.eu
DTSTAMP:20210428T152458Z
CREATED:20160826T132343Z
DESCRIPTION:A      \n    \n\nDate: \n\n2012-07-10 08:00 to 17:00\n\nPlace: 
 \n\nIspra\, Italy\n\nGroup: \n\nResistance of Structures to Explosion Effe
 cts\n\n\n\n\nExperts will discuss the draft work programme and identify th
 e structure and timetable for the work steps.
DTSTART;TZID=Europe/Brussels:20120710T080000
DTEND;TZID=Europe/Brussels:20120710T170000
LAST-MODIFIED:20160826T132343Z
LOCATION:Ispra\, Italy
SUMMARY:2nd Resistance of Structures against Explosion effects TG meeting
URL;TYPE=URI:https://erncip-project.jrc.ec.europa.eu/events/2nd-resistance-
 structures-against-explosion-effects-tg-meeting
END:VEVENT
END:VCALENDAR
