BEGIN:VCALENDAR
VERSION:2.0
PRODID:-//Date iCal//NONSGML kigkonsult.se iCalcreator 2.22//
METHOD:PUBLISH
X-WR-CALNAME;VALUE=TEXT:ERNCIP Calendar
BEGIN:VTIMEZONE
TZID:Europe/Brussels
BEGIN:STANDARD
DTSTART:20111030T030000
TZOFFSETFROM:+0200
TZOFFSETTO:+0100
RDATE:20121028T030000
TZNAME:CET
END:STANDARD
BEGIN:DAYLIGHT
DTSTART:20120325T020000
TZOFFSETFROM:+0100
TZOFFSETTO:+0200
RDATE:20130331T020000
TZNAME:CEST
END:DAYLIGHT
END:VTIMEZONE
BEGIN:VEVENT
UID:calendar.314.field_events_date.0@erncip-project.jrc.ec.europa.eu
DTSTAMP:20210428T152535Z
CREATED:20160826T132232Z
DESCRIPTION:A      \n    \n\nDate: \n\n2012-03-14 08:00 to 17:00\n\nGroup: 
 \n\nResistance of Structures to Explosion Effects\n\n\n\n\nThe kick-off me
 eting for the thematic area of Resistance of structures against explosion 
 effects at JRC Ispra on March 14th\, 2012.\n\n\nThe meeting aims to establ
 ish the Terms of Reference for this thematic area and its work program.
DTSTART;TZID=Europe/Brussels:20120314T080000
DTEND;TZID=Europe/Brussels:20120314T170000
LAST-MODIFIED:20160826T132232Z
SUMMARY:Kick-off meeting Resistance of structures against explosion effects
URL;TYPE=URI:https://erncip-project.jrc.ec.europa.eu/events/kick-meeting-re
 sistance-structures-against-explosion-effects
END:VEVENT
END:VCALENDAR
