BEGIN:VCALENDAR
VERSION:2.0
PRODID:-//Date iCal//NONSGML kigkonsult.se iCalcreator 2.22//
METHOD:PUBLISH
X-WR-CALNAME;VALUE=TEXT:ERNCIP Calendar
BEGIN:VTIMEZONE
TZID:Europe/Brussels
BEGIN:STANDARD
DTSTART:20161030T030000
TZOFFSETFROM:+0200
TZOFFSETTO:+0100
RDATE:20171029T030000
TZNAME:CET
END:STANDARD
BEGIN:DAYLIGHT
DTSTART:20160327T020000
TZOFFSETFROM:+0100
TZOFFSETTO:+0200
RDATE:20170326T020000
TZNAME:CEST
END:DAYLIGHT
END:VTIMEZONE
BEGIN:VEVENT
UID:calendar.313.field_events_date.0@erncip-project.jrc.ec.europa.eu
DTSTAMP:20210428T152609Z
CREATED:20160826T131933Z
DESCRIPTION:A      \n    \n\nDate: \n\n2016-06-20 09:00 to 2016-06-22 17:00
 \n\nPlace: \n\nEggendorf\, Austria\n\nGroup: \n\nRadiological and Nuclear 
 Threats to Critical Infrastructure
DTSTART;TZID=Europe/Brussels:20160620T090000
DTEND;TZID=Europe/Brussels:20160622T170000
LAST-MODIFIED:20160826T131933Z
LOCATION:Eggendorf\, Austria
SUMMARY:Radiological and nuclear threats - Robotics sub-group (TBC)
URL;TYPE=URI:https://erncip-project.jrc.ec.europa.eu/events/radiological-an
 d-nuclear-threats-robotics-sub-group-tbc
END:VEVENT
END:VCALENDAR
