BEGIN:VCALENDAR
VERSION:2.0
PRODID:-//Date iCal//NONSGML kigkonsult.se iCalcreator 2.22//
METHOD:PUBLISH
X-WR-CALNAME;VALUE=TEXT:ERNCIP Calendar
BEGIN:VTIMEZONE
TZID:Europe/Brussels
BEGIN:STANDARD
DTSTART:20151025T030000
TZOFFSETFROM:+0200
TZOFFSETTO:+0100
RDATE:20161030T030000
TZNAME:CET
END:STANDARD
BEGIN:DAYLIGHT
DTSTART:20160327T020000
TZOFFSETFROM:+0100
TZOFFSETTO:+0200
RDATE:20170326T020000
TZNAME:CEST
END:DAYLIGHT
END:VTIMEZONE
BEGIN:VEVENT
UID:calendar.312.field_events_date.0@erncip-project.jrc.ec.europa.eu
DTSTAMP:20210428T152644Z
CREATED:20160826T131817Z
DESCRIPTION:A      \n    \n\nDate: \n\n2016-03-17 09:00 to 2016-03-18 12:00
 \n\nPlace: \n\nIspra\, Italy\n\nGroup: \n\nRadiological and Nuclear Threat
 s to Critical Infrastructure
DTSTART;TZID=Europe/Brussels:20160317T090000
DTEND;TZID=Europe/Brussels:20160318T120000
LAST-MODIFIED:20160826T131817Z
LOCATION:Ispra\, Italy
SUMMARY:Radiological and Nuclear threats to critical infrastructure TG Meet
 ing (Coordinator and Lead Scientists)
URL;TYPE=URI:https://erncip-project.jrc.ec.europa.eu/events/radiological-an
 d-nuclear-threats-critical-infrastructure-tg-meeting-coordinator-and-lead
END:VEVENT
END:VCALENDAR
