BEGIN:VCALENDAR
VERSION:2.0
PRODID:-//Date iCal//NONSGML kigkonsult.se iCalcreator 2.22//
METHOD:PUBLISH
X-WR-CALNAME;VALUE=TEXT:ERNCIP Calendar
BEGIN:VTIMEZONE
TZID:Europe/Brussels
BEGIN:STANDARD
DTSTART:20151025T030000
TZOFFSETFROM:+0200
TZOFFSETTO:+0100
RDATE:20161030T030000
TZNAME:CET
END:STANDARD
BEGIN:DAYLIGHT
DTSTART:20150329T020000
TZOFFSETFROM:+0100
TZOFFSETTO:+0200
RDATE:20160327T020000,20170326T020000
TZNAME:CEST
END:DAYLIGHT
END:VTIMEZONE
BEGIN:VEVENT
UID:calendar.311.field_events_date.0@erncip-project.jrc.ec.europa.eu
DTSTAMP:20210428T152718Z
CREATED:20160826T131710Z
DESCRIPTION:A      \n    \n\nDate: \n\n2015-09-29 12:00 to 2015-10-01 12:00
 \n\nPlace: \n\nIspra\, Italy\n\nGroup: \n\nRadiological and Nuclear Threat
 s to Critical Infrastructure
DTSTART;TZID=Europe/Brussels:20150929T120000
DTEND;TZID=Europe/Brussels:20151001T120000
LAST-MODIFIED:20160826T131710Z
LOCATION:Ispra\, Italy
SUMMARY:11th Radiological and Nuclear Threats TG meeting
URL;TYPE=URI:https://erncip-project.jrc.ec.europa.eu/events/11th-radiologic
 al-and-nuclear-threats-tg-meeting
END:VEVENT
END:VCALENDAR
