BEGIN:VCALENDAR
VERSION:2.0
PRODID:-//Date iCal//NONSGML kigkonsult.se iCalcreator 2.22//
METHOD:PUBLISH
X-WR-CALNAME;VALUE=TEXT:ERNCIP Calendar
BEGIN:VTIMEZONE
TZID:Europe/Brussels
BEGIN:STANDARD
DTSTART:20141026T030000
TZOFFSETFROM:+0200
TZOFFSETTO:+0100
RDATE:20151025T030000
TZNAME:CET
END:STANDARD
BEGIN:DAYLIGHT
DTSTART:20150329T020000
TZOFFSETFROM:+0100
TZOFFSETTO:+0200
RDATE:20160327T020000
TZNAME:CEST
END:DAYLIGHT
END:VTIMEZONE
BEGIN:VEVENT
UID:calendar.310.field_events_date.0@erncip-project.jrc.ec.europa.eu
DTSTAMP:20210428T152753Z
CREATED:20160826T131549Z
DESCRIPTION:A      \n    \n\nDate: \n\n2015-02-04 08:00 to 2015-02-05 17:00
 \n\nPlace: \n\nMadrid\, Spain\n\nGroup: \n\nRadiological and Nuclear Threa
 ts to Critical Infrastructure
DTSTART;TZID=Europe/Brussels:20150204T080000
DTEND;TZID=Europe/Brussels:20150205T170000
LAST-MODIFIED:20160826T131549Z
LOCATION:Madrid\, Spain
SUMMARY:9th Radiological and Nuclear Threats TG meeting
URL;TYPE=URI:https://erncip-project.jrc.ec.europa.eu/events/9th-radiologica
 l-and-nuclear-threats-tg-meeting
END:VEVENT
END:VCALENDAR
