BEGIN:VCALENDAR
VERSION:2.0
PRODID:-//Date iCal//NONSGML kigkonsult.se iCalcreator 2.22//
METHOD:PUBLISH
X-WR-CALNAME;VALUE=TEXT:ERNCIP Calendar
BEGIN:VTIMEZONE
TZID:Europe/Brussels
BEGIN:STANDARD
DTSTART:20141026T030000
TZOFFSETFROM:+0200
TZOFFSETTO:+0100
RDATE:20151025T030000
TZNAME:CET
END:STANDARD
BEGIN:DAYLIGHT
DTSTART:20140330T020000
TZOFFSETFROM:+0100
TZOFFSETTO:+0200
RDATE:20150329T020000,20160327T020000
TZNAME:CEST
END:DAYLIGHT
END:VTIMEZONE
BEGIN:VEVENT
UID:calendar.308.field_events_date.0@erncip-project.jrc.ec.europa.eu
DTSTAMP:20210428T152901Z
CREATED:20160826T131258Z
DESCRIPTION:A      \n    \n\nDate: \n\n2014-10-07 12:00 to 2014-10-08 17:00
 \n\nPlace: \n\nTeddington\, United Kingdom\n\nGroup: \n\nRadiological and 
 Nuclear Threats to Critical Infrastructure
DTSTART;TZID=Europe/Brussels:20141007T120000
DTEND;TZID=Europe/Brussels:20141008T170000
LAST-MODIFIED:20160826T131258Z
LOCATION:Teddington\, United Kingdom
SUMMARY:7th Radiological and Nuclear Threats TG meeting
URL;TYPE=URI:https://erncip-project.jrc.ec.europa.eu/events/7th-radiologica
 l-and-nuclear-threats-tg-meeting
END:VEVENT
END:VCALENDAR
