BEGIN:VCALENDAR
VERSION:2.0
PRODID:-//Date iCal//NONSGML kigkonsult.se iCalcreator 2.22//
METHOD:PUBLISH
X-WR-CALNAME;VALUE=TEXT:ERNCIP Calendar
BEGIN:VTIMEZONE
TZID:Europe/Brussels
BEGIN:STANDARD
DTSTART:20131027T030000
TZOFFSETFROM:+0200
TZOFFSETTO:+0100
RDATE:20141026T030000
TZNAME:CET
END:STANDARD
BEGIN:DAYLIGHT
DTSTART:20140330T020000
TZOFFSETFROM:+0100
TZOFFSETTO:+0200
RDATE:20150329T020000
TZNAME:CEST
END:DAYLIGHT
END:VTIMEZONE
BEGIN:VEVENT
UID:calendar.303.field_events_date.0@erncip-project.jrc.ec.europa.eu
DTSTAMP:20210428T153045Z
CREATED:20160826T130606Z
DESCRIPTION:A      \n    \n\nDate: \n\n2014-02-06 08:00 to 2014-02-07 17:00
 \n\nPlace: \n\nHelsinki\, Finland\n\nGroup: \n\nRadiological and Nuclear T
 hreats to Critical Infrastructure
DTSTART;TZID=Europe/Brussels:20140206T080000
DTEND;TZID=Europe/Brussels:20140207T170000
LAST-MODIFIED:20160826T130606Z
LOCATION:Helsinki\, Finland
SUMMARY:4th Radiological and Nuclear Threats TG meeting
URL;TYPE=URI:https://erncip-project.jrc.ec.europa.eu/events/4th-radiologica
 l-and-nuclear-threats-tg-meeting
END:VEVENT
END:VCALENDAR
