BEGIN:VCALENDAR
VERSION:2.0
PRODID:-//Date iCal//NONSGML kigkonsult.se iCalcreator 2.22//
METHOD:PUBLISH
X-WR-CALNAME;VALUE=TEXT:ERNCIP Calendar
BEGIN:VTIMEZONE
TZID:Europe/Brussels
BEGIN:STANDARD
DTSTART:20151025T030000
TZOFFSETFROM:+0200
TZOFFSETTO:+0100
RDATE:20161030T030000
TZNAME:CET
END:STANDARD
BEGIN:DAYLIGHT
DTSTART:20150329T020000
TZOFFSETFROM:+0100
TZOFFSETTO:+0200
RDATE:20160327T020000
TZNAME:CEST
END:DAYLIGHT
END:VTIMEZONE
BEGIN:VEVENT
UID:calendar.285.field_events_date.0@erncip-project.jrc.ec.europa.eu
DTSTAMP:20210429T061231Z
CREATED:20160826T125749Z
DESCRIPTION:A      \n    \n\nDate: \n\n2015-09-16 10:00 to 2015-09-17 14:00
 \n\nPlace: \n\nIspra\, Italy\n\nGroup: \n\nDetection of Indoor Airborne Ch
 emical-Biological Agents
DTSTART;TZID=Europe/Brussels:20150916T100000
DTEND;TZID=Europe/Brussels:20150917T140000
LAST-MODIFIED:20160826T125749Z
LOCATION:Ispra\, Italy
SUMMARY:Kick-off Meeting TG Detection of Indoor Airborne Chemical-Biologica
 l Agents
URL;TYPE=URI:https://erncip-project.jrc.ec.europa.eu/events/kick-meeting-tg
 -detection-indoor-airborne-chemical-biological-agents
END:VEVENT
END:VCALENDAR
