BEGIN:VCALENDAR
VERSION:2.0
PRODID:-//Date iCal//NONSGML kigkonsult.se iCalcreator 2.22//
METHOD:PUBLISH
X-WR-CALNAME;VALUE=TEXT:ERNCIP Calendar
BEGIN:VTIMEZONE
TZID:Europe/Brussels
BEGIN:STANDARD
DTSTART:20151025T030000
TZOFFSETFROM:+0200
TZOFFSETTO:+0100
RDATE:20161030T030000
TZNAME:CET
END:STANDARD
BEGIN:DAYLIGHT
DTSTART:20150329T020000
TZOFFSETFROM:+0100
TZOFFSETTO:+0200
RDATE:20160327T020000
TZNAME:CEST
END:DAYLIGHT
END:VTIMEZONE
BEGIN:VEVENT
UID:calendar.282.field_events_date.0@erncip-project.jrc.ec.europa.eu
DTSTAMP:20210429T061305Z
CREATED:20160826T125639Z
DESCRIPTION:A      \n    \n\nDate: \n\n2015-06-25 10:00 to 17:00\n\nPlace: 
 \n\nBrussels/Video Conference\n\nGroup: \n\nDetection of Indoor Airborne C
 hemical-Biological Agents
DTSTART;TZID=Europe/Brussels:20150625T100000
DTEND;TZID=Europe/Brussels:20150625T170000
LAST-MODIFIED:20160826T125639Z
LOCATION:Brussels/Video Conference
SUMMARY:ERNCIP Detection of Indoor Airborne Chemical/Biological Agents Them
 atic Group Preparatory Meeting
URL;TYPE=URI:https://erncip-project.jrc.ec.europa.eu/events/erncip-detectio
 n-indoor-airborne-chemicalbiological-agents-thematic-group-preparatory-mee
 ting
END:VEVENT
END:VCALENDAR
