BEGIN:VCALENDAR
VERSION:2.0
PRODID:-//Date iCal//NONSGML kigkonsult.se iCalcreator 2.22//
METHOD:PUBLISH
X-WR-CALNAME;VALUE=TEXT:ERNCIP Calendar
BEGIN:VTIMEZONE
TZID:Europe/Brussels
BEGIN:STANDARD
DTSTART:20151025T030000
TZOFFSETFROM:+0200
TZOFFSETTO:+0100
RDATE:20161030T030000,20171029T030000
TZNAME:CET
END:STANDARD
BEGIN:DAYLIGHT
DTSTART:20160327T020000
TZOFFSETFROM:+0100
TZOFFSETTO:+0200
RDATE:20170326T020000
TZNAME:CEST
END:DAYLIGHT
END:VTIMEZONE
BEGIN:VEVENT
UID:calendar.274.field_events_date.0@erncip-project.jrc.ec.europa.eu
DTSTAMP:20210429T061417Z
CREATED:20160826T125304Z
DESCRIPTION:A      \n    \n\nDate: \n\n2016-05-24 09:00 to 17:00\n\nPlace: 
 \n\nBrussels\n\nGroup: \n\nDetection of Explosives & Weapons at Secure Loc
 ations
DTSTART;TZID=Europe/Brussels:20160524T090000
DTEND;TZID=Europe/Brussels:20160524T170000
LAST-MODIFIED:20160826T125304Z
LOCATION:Brussels
SUMMARY:Detection of explosives & weapons in secure locations TG Meeting
URL;TYPE=URI:https://erncip-project.jrc.ec.europa.eu/events/detection-explo
 sives-weapons-secure-locations-tg-meeting
END:VEVENT
END:VCALENDAR
