BEGIN:VCALENDAR
VERSION:2.0
PRODID:-//Date iCal//NONSGML kigkonsult.se iCalcreator 2.22//
METHOD:PUBLISH
X-WR-CALNAME;VALUE=TEXT:ERNCIP Calendar
BEGIN:VTIMEZONE
TZID:Europe/Brussels
BEGIN:STANDARD
DTSTART:20141026T030000
TZOFFSETFROM:+0200
TZOFFSETTO:+0100
RDATE:20151025T030000
TZNAME:CET
END:STANDARD
BEGIN:DAYLIGHT
DTSTART:20150329T020000
TZOFFSETFROM:+0100
TZOFFSETTO:+0200
RDATE:20160327T020000
TZNAME:CEST
END:DAYLIGHT
END:VTIMEZONE
BEGIN:VEVENT
UID:calendar.266.field_events_date.0@erncip-project.jrc.ec.europa.eu
DTSTAMP:20210429T061702Z
CREATED:20160826T124418Z
DESCRIPTION:A      \n    \n\nDate: \n\n2015-04-14 09:00 to 16:00\n\nPlace: 
 \n\nBrussels\n\nGroup: \n\nDetection of Explosives & Weapons at Secure Loc
 ations
DTSTART;TZID=Europe/Brussels:20150414T090000
DTEND;TZID=Europe/Brussels:20150414T160000
LAST-MODIFIED:20160826T124431Z
LOCATION:Brussels
SUMMARY:2nd Detection of explosives & weapons in secure locations meeting
URL;TYPE=URI:https://erncip-project.jrc.ec.europa.eu/events/2nd-detection-e
 xplosives-weapons-secure-locations-meeting
END:VEVENT
END:VCALENDAR
