BEGIN:VCALENDAR
VERSION:2.0
PRODID:-//Date iCal//NONSGML kigkonsult.se iCalcreator 2.22//
METHOD:PUBLISH
X-WR-CALNAME;VALUE=TEXT:ERNCIP Calendar
BEGIN:VTIMEZONE
TZID:Europe/Brussels
BEGIN:STANDARD
DTSTART:20121028T030000
TZOFFSETFROM:+0200
TZOFFSETTO:+0100
RDATE:20131027T030000
TZNAME:CET
END:STANDARD
BEGIN:DAYLIGHT
DTSTART:20130331T020000
TZOFFSETFROM:+0100
TZOFFSETTO:+0200
RDATE:20140330T020000
TZNAME:CEST
END:DAYLIGHT
END:VTIMEZONE
BEGIN:VEVENT
UID:calendar.257.field_events_date.0@erncip-project.jrc.ec.europa.eu
DTSTAMP:20210429T061933Z
CREATED:20160826T123250Z
DESCRIPTION:A      \n    \n\nDate: \n\n2012-12-13 08:00 to 17:00\n\nPlace: 
 \n\nIspra\, Italy\n\nGroup: \n\nAviation Security Detection Equipment
DTSTART;TZID=Europe/Brussels:20121213T080000
DTEND;TZID=Europe/Brussels:20121213T170000
LAST-MODIFIED:20160826T123250Z
LOCATION:Ispra\, Italy
SUMMARY:3rd Aviation Security Detection Equipment TG meeting
URL;TYPE=URI:https://erncip-project.jrc.ec.europa.eu/events/3rd-aviation-se
 curity-detection-equipment-tg-meeting
END:VEVENT
END:VCALENDAR
