BEGIN:VCALENDAR
VERSION:2.0
PRODID:-//Date iCal//NONSGML kigkonsult.se iCalcreator 2.22//
METHOD:PUBLISH
X-WR-CALNAME;VALUE=TEXT:ERNCIP Calendar
BEGIN:VTIMEZONE
TZID:Europe/Brussels
BEGIN:STANDARD
DTSTART:20121028T030000
TZOFFSETFROM:+0200
TZOFFSETTO:+0100
RDATE:20131027T030000
TZNAME:CET
END:STANDARD
BEGIN:DAYLIGHT
DTSTART:20120325T020000
TZOFFSETFROM:+0100
TZOFFSETTO:+0200
RDATE:20130331T020000
TZNAME:CEST
END:DAYLIGHT
END:VTIMEZONE
BEGIN:VEVENT
UID:calendar.256.field_events_date.0@erncip-project.jrc.ec.europa.eu
DTSTAMP:20210429T062008Z
CREATED:20160826T123131Z
DESCRIPTION:A      \n    \n\nDate: \n\n2012-06-14 08:00 to 2012-06-15 17:00
 \n\nPlace: \n\nBrussels\n\nGroup: \n\nAviation Security Detection Equipmen
 t\n\n\n\n\nThe Commission presented its Communication on the Security Indu
 strial Policy. The Experts then discussed how to best achieve the objectiv
 es as set out in the Communication.\n 
DTSTART;TZID=Europe/Brussels:20120614T080000
DTEND;TZID=Europe/Brussels:20120615T170000
LAST-MODIFIED:20160826T123131Z
LOCATION:Brussels
SUMMARY:2nd Aviation Security Detection Equipment TG meeting
URL;TYPE=URI:https://erncip-project.jrc.ec.europa.eu/events/2nd-aviation-se
 curity-detection-equipment-tg-meeting
END:VEVENT
END:VCALENDAR
