BEGIN:VCALENDAR
VERSION:2.0
PRODID:-//Date iCal//NONSGML kigkonsult.se iCalcreator 2.22//
METHOD:PUBLISH
X-WR-CALNAME;VALUE=TEXT:ERNCIP Calendar
BEGIN:VTIMEZONE
TZID:Europe/Brussels
BEGIN:STANDARD
DTSTART:20111030T030000
TZOFFSETFROM:+0200
TZOFFSETTO:+0100
RDATE:20121028T030000
TZNAME:CET
END:STANDARD
BEGIN:DAYLIGHT
DTSTART:20120325T020000
TZOFFSETFROM:+0100
TZOFFSETTO:+0200
RDATE:20130331T020000
TZNAME:CEST
END:DAYLIGHT
END:VTIMEZONE
BEGIN:VEVENT
UID:calendar.252.field_events_date.0@erncip-project.jrc.ec.europa.eu
DTSTAMP:20210429T062046Z
CREATED:20160826T122757Z
DESCRIPTION:A      \n    \n\nDate: \n\n2012-02-17 08:00 to 17:00\n\nPlace: 
 \n\nIspra\, Italy\n\nGroup: \n\nAviation Security Detection Equipment\n\n
 \n\n\nThe kick-off meeting for the thematic area of Aviation Security Dete
 ction Equipment at JRC Ispra on February 17th\, 2012.\n\n\nThe meeting aim
 s to establish the Terms of Reference for this thematic area and its work 
 program.
DTSTART;TZID=Europe/Brussels:20120217T080000
DTEND;TZID=Europe/Brussels:20120217T170000
LAST-MODIFIED:20160826T122757Z
LOCATION:Ispra\, Italy
SUMMARY:Kick-off meeting Aviation Security Detection Equipment
URL;TYPE=URI:https://erncip-project.jrc.ec.europa.eu/events/kick-meeting-av
 iation-security-detection-equipment
END:VEVENT
END:VCALENDAR
