BEGIN:VCALENDAR
VERSION:2.0
PRODID:-//Date iCal//NONSGML kigkonsult.se iCalcreator 2.22//
METHOD:PUBLISH
X-WR-CALNAME;VALUE=TEXT:ERNCIP Calendar
BEGIN:VTIMEZONE
TZID:Europe/Brussels
BEGIN:STANDARD
DTSTART:20131027T030000
TZOFFSETFROM:+0200
TZOFFSETTO:+0100
RDATE:20141026T030000,20151025T030000
TZNAME:CET
END:STANDARD
BEGIN:DAYLIGHT
DTSTART:20140330T020000
TZOFFSETFROM:+0100
TZOFFSETTO:+0200
RDATE:20150329T020000
TZNAME:CEST
END:DAYLIGHT
END:VTIMEZONE
BEGIN:VEVENT
UID:calendar.211.field_events_date.0@erncip-project.jrc.ec.europa.eu
DTSTAMP:20210429T062156Z
CREATED:20160823T074134Z
DESCRIPTION:A      \n    \n\nDate: \n\n2014-05-20 09:00\n\nPlace: \n\nParis
  - France\n\nGroup: \n\nERNCIP Group of EU CIP Experts
DTSTART;TZID=Europe/Brussels:20140520T090000
DTEND;TZID=Europe/Brussels:20140520T090000
LAST-MODIFIED:20160823T074134Z
LOCATION:Paris - France
SUMMARY:8th ERNCIP Expert Group Meeting
URL;TYPE=URI:https://erncip-project.jrc.ec.europa.eu/events/8th-erncip-expe
 rt-group-meeting
END:VEVENT
END:VCALENDAR
