BEGIN:VCALENDAR
VERSION:2.0
PRODID:-//Date iCal//NONSGML kigkonsult.se iCalcreator 2.22//
METHOD:PUBLISH
X-WR-CALNAME;VALUE=TEXT:ERNCIP Calendar
BEGIN:VTIMEZONE
TZID:Europe/Brussels
BEGIN:STANDARD
DTSTART:20111030T030000
TZOFFSETFROM:+0200
TZOFFSETTO:+0100
RDATE:20121028T030000
TZNAME:CET
END:STANDARD
BEGIN:DAYLIGHT
DTSTART:20120325T020000
TZOFFSETFROM:+0100
TZOFFSETTO:+0200
RDATE:20130331T020000
TZNAME:CEST
END:DAYLIGHT
END:VTIMEZONE
BEGIN:VEVENT
UID:calendar.206.field_events_date.0@erncip-project.jrc.ec.europa.eu
DTSTAMP:20210429T062233Z
CREATED:20160823T073544Z
DESCRIPTION:A      \n    \n\nDate: \n\n2012-02-14 09:00\n\nPlace: \n\nIspra
 \n\nGroup: \n\nERNCIP Group of EU CIP Experts
DTSTART;TZID=Europe/Brussels:20120214T090000
DTEND;TZID=Europe/Brussels:20120214T090000
LAST-MODIFIED:20160823T073544Z
LOCATION:Ispra
SUMMARY:3rd ERNCIP Expert Group meeting
URL;TYPE=URI:https://erncip-project.jrc.ec.europa.eu/events/3rd-erncip-expe
 rt-group-meeting
END:VEVENT
END:VCALENDAR
