BEGIN:VCALENDAR
VERSION:2.0
PRODID:-//Date iCal//NONSGML kigkonsult.se iCalcreator 2.22//
METHOD:PUBLISH
X-WR-CALNAME;VALUE=TEXT:ERNCIP Calendar
BEGIN:VTIMEZONE
TZID:Europe/Brussels
BEGIN:STANDARD
DTSTART:20141026T030000
TZOFFSETFROM:+0200
TZOFFSETTO:+0100
RDATE:20151025T030000
TZNAME:CET
END:STANDARD
BEGIN:DAYLIGHT
DTSTART:20140330T020000
TZOFFSETFROM:+0100
TZOFFSETTO:+0200
RDATE:20150329T020000,20160327T020000
TZNAME:CEST
END:DAYLIGHT
END:VTIMEZONE
BEGIN:VEVENT
UID:calendar.192.field_events_date.0@erncip-project.jrc.ec.europa.eu
DTSTAMP:20210429T062315Z
CREATED:20160822T095926Z
DESCRIPTION:A      \n    \n\nDate: \n\n2014-10-20 12:00 to 2014-10-21 14:00
 \n\nPlace: \n\nIspra\n\nGroup: \n\nAcademic Committee
DTSTART;TZID=Europe/Brussels:20141020T120000
DTEND;TZID=Europe/Brussels:20141021T140000
LAST-MODIFIED:20160822T095926Z
LOCATION:Ispra
SUMMARY:3rd ERNCIP Academic Committee meeting
URL;TYPE=URI:https://erncip-project.jrc.ec.europa.eu/events/3rd-erncip-acad
 emic-committee-meeting
END:VEVENT
END:VCALENDAR
