BEGIN:VCALENDAR
VERSION:2.0
PRODID:-//Date iCal//NONSGML kigkonsult.se iCalcreator 2.22//
METHOD:PUBLISH
X-WR-CALNAME;VALUE=TEXT:ERNCIP Calendar
BEGIN:VTIMEZONE
TZID:Europe/Brussels
BEGIN:STANDARD
DTSTART:20131027T030000
TZOFFSETFROM:+0200
TZOFFSETTO:+0100
RDATE:20141026T030000
TZNAME:CET
END:STANDARD
BEGIN:DAYLIGHT
DTSTART:20140330T020000
TZOFFSETFROM:+0100
TZOFFSETTO:+0200
RDATE:20150329T020000
TZNAME:CEST
END:DAYLIGHT
END:VTIMEZONE
BEGIN:VEVENT
UID:calendar.190.field_events_date.0@erncip-project.jrc.ec.europa.eu
DTSTAMP:20210429T062425Z
CREATED:20160822T095043Z
DESCRIPTION:A      \n    \n\nDate: \n\n2013-11-12 09:00 to 17:00\n\nPlace: 
 \n\nIspra\n\nGroup: \n\nAcademic Committee
DTSTART;TZID=Europe/Brussels:20131112T090000
DTEND;TZID=Europe/Brussels:20131112T170000
LAST-MODIFIED:20160822T095043Z
LOCATION:Ispra
SUMMARY:Kick-off meeting of the ERNCIP Academic committee.
URL;TYPE=URI:https://erncip-project.jrc.ec.europa.eu/events/kick-meeting-er
 ncip-academic-committee
END:VEVENT
END:VCALENDAR
