BEGIN:VCALENDAR
VERSION:2.0
PRODID:-//Date iCal//NONSGML kigkonsult.se iCalcreator 2.22//
METHOD:PUBLISH
X-WR-CALNAME;VALUE=TEXT:ERNCIP Calendar
BEGIN:VTIMEZONE
TZID:Europe/Brussels
BEGIN:STANDARD
DTSTART:20161030T030000
TZOFFSETFROM:+0200
TZOFFSETTO:+0100
RDATE:20171029T030000
TZNAME:CET
END:STANDARD
BEGIN:DAYLIGHT
DTSTART:20160327T020000
TZOFFSETFROM:+0100
TZOFFSETTO:+0200
RDATE:20170326T020000,20180325T020000
TZNAME:CEST
END:DAYLIGHT
END:VTIMEZONE
BEGIN:VEVENT
UID:calendar.176.field_events_date.0@erncip-project.jrc.ec.europa.eu
DTSTAMP:20210429T062502Z
CREATED:20160811T100002Z
DESCRIPTION:A      \n    \n\nDate: \n\n2016-10-20 09:00 to 2016-10-21 17:00
 \n\nPlace: \n\nJRC Ispra\n\nGroup: \n\nChemical and Biological (CB) Risks 
 to Drinking Water
DTSTART;TZID=Europe/Brussels:20161020T090000
DTEND;TZID=Europe/Brussels:20161021T170000
LAST-MODIFIED:20160811T100002Z
LOCATION:JRC Ispra
SUMMARY:Chemical and biological (CB) risks to drinking water TG Meeting
URL;TYPE=URI:https://erncip-project.jrc.ec.europa.eu/events/chemical-and-bi
 ological-cb-risks-drinking-water-tg-meeting-1
END:VEVENT
END:VCALENDAR
