BEGIN:VCALENDAR
VERSION:2.0
PRODID:-//Date iCal//NONSGML kigkonsult.se iCalcreator 2.22//
METHOD:PUBLISH
X-WR-CALNAME;VALUE=TEXT:ERNCIP Calendar
BEGIN:VTIMEZONE
TZID:Europe/Brussels
BEGIN:STANDARD
DTSTART:20151025T030000
TZOFFSETFROM:+0200
TZOFFSETTO:+0100
RDATE:20161030T030000,20171029T030000
TZNAME:CET
END:STANDARD
BEGIN:DAYLIGHT
DTSTART:20160327T020000
TZOFFSETFROM:+0100
TZOFFSETTO:+0200
RDATE:20170326T020000
TZNAME:CEST
END:DAYLIGHT
END:VTIMEZONE
BEGIN:VEVENT
UID:calendar.175.field_events_date.0@erncip-project.jrc.ec.europa.eu
DTSTAMP:20210429T062537Z
CREATED:20160811T095847Z
DESCRIPTION:A      \n    \n\nDate: \n\n2016-05-11 08:00 to 2016-05-12 17:00
 \n\nPlace: \n\nSwindon (UK)\n\nGroup: \n\nChemical and Biological (CB) Ris
 ks to Drinking Water
DTSTART;TZID=Europe/Brussels:20160511T080000
DTEND;TZID=Europe/Brussels:20160512T170000
LAST-MODIFIED:20160811T095847Z
LOCATION:Swindon (UK)
SUMMARY:Chemical and biological (CB) risks to drinking water TG Meeting
URL;TYPE=URI:https://erncip-project.jrc.ec.europa.eu/events/chemical-and-bi
 ological-cb-risks-drinking-water-tg-meeting-0
END:VEVENT
END:VCALENDAR
