BEGIN:VCALENDAR
VERSION:2.0
PRODID:-//Date iCal//NONSGML kigkonsult.se iCalcreator 2.22//
METHOD:PUBLISH
X-WR-CALNAME;VALUE=TEXT:ERNCIP Calendar
BEGIN:VTIMEZONE
TZID:Europe/Brussels
BEGIN:STANDARD
DTSTART:20151025T030000
TZOFFSETFROM:+0200
TZOFFSETTO:+0100
RDATE:20161030T030000
TZNAME:CET
END:STANDARD
BEGIN:DAYLIGHT
DTSTART:20160327T020000
TZOFFSETFROM:+0100
TZOFFSETTO:+0200
RDATE:20170326T020000
TZNAME:CEST
END:DAYLIGHT
END:VTIMEZONE
BEGIN:VEVENT
UID:calendar.173.field_events_date.0@erncip-project.jrc.ec.europa.eu
DTSTAMP:20210429T062652Z
CREATED:20160811T095628Z
DESCRIPTION:A      \n    \n\nDate: \n\n2015-12-11 08:00 to 12:00\n\nPlace: 
 \n\nBrussels\n\nGroup: \n\nChemical and Biological (CB) Risks to Drinking 
 Water
DTSTART;TZID=Europe/Brussels:20151211T080000
DTEND;TZID=Europe/Brussels:20151211T120000
LAST-MODIFIED:20160811T095628Z
LOCATION:Brussels
SUMMARY:5th CB Risks to Drinking Water TG meeting of 2015
URL;TYPE=URI:https://erncip-project.jrc.ec.europa.eu/events/5th-cb-risks-dr
 inking-water-tg-meeting-2015
END:VEVENT
END:VCALENDAR
